{ "currentVersion": 10.91, "cimVersion": "2.9.0", "serviceDescription": "
Hybrid Basemap with 2022 Ortho, Streets, City Limits<\/SPAN><\/P><\/DIV><\/DIV><\/DIV>",
"mapName": "Hybrid2022tpk",
"description": " Hybrid Basemap with 2022 Ortho, Streets, City Limits<\/SPAN><\/P><\/DIV><\/DIV><\/DIV>",
"copyrightText": "",
"supportsDynamicLayers": false,
"layers": [
{
"id": 15,
"name": "Street Labels ",
"parentLayerId": -1,
"defaultVisibility": true,
"subLayerIds": [
16,
17,
18,
19,
14,
20
],
"minScale": 0,
"maxScale": 0,
"type": "Group Layer",
"supportsDynamicLegends": false
},
{
"id": 16,
"name": "Street Labels <600",
"parentLayerId": 15,
"defaultVisibility": true,
"subLayerIds": null,
"minScale": 600,
"maxScale": 0,
"type": "Feature Layer",
"geometryType": "esriGeometryPolyline",
"supportsDynamicLegends": true
},
{
"id": 17,
"name": "Street Labels <1K",
"parentLayerId": 15,
"defaultVisibility": true,
"subLayerIds": null,
"minScale": 1500,
"maxScale": 601,
"type": "Feature Layer",
"geometryType": "esriGeometryPolyline",
"supportsDynamicLegends": true
},
{
"id": 18,
"name": "Street Labels - 6K",
"parentLayerId": 15,
"defaultVisibility": true,
"subLayerIds": null,
"minScale": 6000,
"maxScale": 1501,
"type": "Feature Layer",
"geometryType": "esriGeometryPolyline",
"supportsDynamicLegends": true
},
{
"id": 19,
"name": "Street Labels - All",
"parentLayerId": 15,
"defaultVisibility": true,
"subLayerIds": null,
"minScale": 12000,
"maxScale": 6001,
"type": "Feature Layer",
"geometryType": "esriGeometryPolyline",
"supportsDynamicLegends": true
},
{
"id": 14,
"name": "Street Labels - Arterials",
"parentLayerId": 15,
"defaultVisibility": true,
"subLayerIds": null,
"minScale": 25001,
"maxScale": 12001,
"type": "Feature Layer",
"geometryType": "esriGeometryPolyline",
"supportsDynamicLegends": true
},
{
"id": 20,
"name": "Street Labels - Major Arterials",
"parentLayerId": 15,
"defaultVisibility": true,
"subLayerIds": null,
"minScale": 50000,
"maxScale": 25001,
"type": "Feature Layer",
"geometryType": "esriGeometryPolyline",
"supportsDynamicLegends": true
},
{
"id": 6,
"name": "Streets",
"parentLayerId": -1,
"defaultVisibility": true,
"subLayerIds": [
7,
8,
13
],
"minScale": 0,
"maxScale": 0,
"type": "Group Layer",
"supportsDynamicLegends": false
},
{
"id": 7,
"name": "Major Arterials",
"parentLayerId": 6,
"defaultVisibility": true,
"subLayerIds": null,
"minScale": 50000,
"maxScale": 6001,
"type": "Feature Layer",
"geometryType": "esriGeometryPolyline",
"supportsDynamicLegends": true
},
{
"id": 8,
"name": "Arterials",
"parentLayerId": 6,
"defaultVisibility": true,
"subLayerIds": null,
"minScale": 99999,
"maxScale": 12001,
"type": "Feature Layer",
"geometryType": "esriGeometryPolyline",
"supportsDynamicLegends": true
},
{
"id": 13,
"name": "Streets - All (Whole Region)",
"parentLayerId": 6,
"defaultVisibility": true,
"subLayerIds": null,
"minScale": 25000,
"maxScale": 3001,
"type": "Feature Layer",
"geometryType": "esriGeometryPolyline",
"supportsDynamicLegends": true
},
{
"id": 5,
"name": "Beaverton City Limits",
"parentLayerId": -1,
"defaultVisibility": true,
"subLayerIds": null,
"minScale": 0,
"maxScale": 0,
"type": "Feature Layer",
"geometryType": "esriGeometryPolygon",
"supportsDynamicLegends": true
},
{
"id": 12,
"name": "Ortho 2022",
"parentLayerId": -1,
"defaultVisibility": true,
"subLayerIds": [
9,
10,
11
],
"minScale": 0,
"maxScale": 0,
"type": "Mosaic Layer",
"supportsDynamicLegends": false
},
{
"id": 9,
"name": "Boundary",
"parentLayerId": 12,
"defaultVisibility": false,
"subLayerIds": null,
"minScale": 0,
"maxScale": 0,
"type": "Feature Layer",
"geometryType": "esriGeometryPolygon",
"supportsDynamicLegends": true
},
{
"id": 10,
"name": "Footprint",
"parentLayerId": 12,
"defaultVisibility": false,
"subLayerIds": null,
"minScale": 0,
"maxScale": 0,
"type": "Feature Layer",
"geometryType": "esriGeometryPolygon",
"supportsDynamicLegends": true
},
{
"id": 11,
"name": "Image",
"parentLayerId": 12,
"defaultVisibility": true,
"subLayerIds": null,
"minScale": 0,
"maxScale": 0,
"type": "Raster Layer",
"supportsDynamicLegends": true
}
],
"tables": [],
"spatialReference": {
"wkid": 2913,
"latestWkid": 2913,
"xyTolerance": 0.0032808398950131233,
"zTolerance": 0.001,
"mTolerance": 0.001,
"falseX": -111333600,
"falseY": -98152500,
"xyUnits": 3048,
"falseZ": -100000,
"zUnits": 10000,
"falseM": -100000,
"mUnits": 10000
},
"singleFusedMapCache": true,
"tileInfo": {
"rows": 1024,
"cols": 1024,
"dpi": 96,
"format": "JPEG",
"compressionQuality": 75,
"origin": {
"x": -111333600,
"y": 140918900
},
"spatialReference": {
"wkid": 2913,
"latestWkid": 2913,
"xyTolerance": 0.0032808398950131233,
"zTolerance": 0.001,
"mTolerance": 0.001,
"falseX": -111333600,
"falseY": -98152500,
"xyUnits": 3048,
"falseZ": -100000,
"zUnits": 10000,
"falseM": -100000,
"mUnits": 10000
},
"lods": [
{
"level": 0,
"resolution": 86.8057291670139,
"scale": 100000.00000000001
},
{
"level": 1,
"resolution": 43.40286458350695,
"scale": 50000.00000000001
},
{
"level": 2,
"resolution": 21.701432291753473,
"scale": 25000.000000000004
},
{
"level": 3,
"resolution": 5.208343750020833,
"scale": 6000
},
{
"level": 4,
"resolution": 1.3020859375052083,
"scale": 1500
},
{
"level": 5,
"resolution": 0.26041718750104165,
"scale": 300
}
]
},
"storageInfo": {
"storageFormat": "esriMapCacheStorageModeCompactV2",
"packetSize": 128
},
"initialExtent": {
"xmin": 7563594.004840663,
"ymin": 637958.3805577774,
"xmax": 7645365.00171599,
"ymax": 698027.9451413511,
"spatialReference": {
"wkid": 2913,
"latestWkid": 2913,
"xyTolerance": 0.0032808398950131233,
"zTolerance": 0.001,
"mTolerance": 0.001,
"falseX": -111333600,
"falseY": -98152500,
"xyUnits": 3048,
"falseZ": -100000,
"zUnits": 10000,
"falseM": -100000,
"mUnits": 10000
}
},
"fullExtent": {
"xmin": 7583457.50000003,
"ymin": 641298.5000000447,
"xmax": 7632759.50000003,
"ymax": 700752.5000000298,
"spatialReference": {
"wkid": 2913,
"latestWkid": 2913,
"xyTolerance": 0.0032808398950131233,
"zTolerance": 0.001,
"mTolerance": 0.001,
"falseX": -111333600,
"falseY": -98152500,
"xyUnits": 3048,
"falseZ": -100000,
"zUnits": 10000,
"falseM": -100000,
"mUnits": 10000
}
},
"datesInUnknownTimezone": false,
"minScale": 100000.00000000001,
"maxScale": 300,
"minLOD": 0,
"maxLOD": 5,
"units": "esriFeet",
"supportedImageFormatTypes": "PNG32,PNG24,PNG,JPG,DIB,TIFF,EMF,PS,PDF,GIF,SVG,SVGZ,BMP",
"documentInfo": {
"Title": "Ortho 2022 Hybrid",
"Author": "",
"Comments": " Hybrid Basemap with 2022 Ortho, Streets, City Limits<\/SPAN><\/P><\/DIV><\/DIV><\/DIV>",
"Subject": "Hybrid Basemap 2022 with reduced scales",
"Category": "",
"AntialiasingMode": "Normal",
"TextAntialiasingMode": "Force",
"Version": "2.9.0",
"Keywords": "Hybrid"
},
"supportsQueryDomains": true,
"capabilities": "Map",
"supportedQueryFormats": "JSON, geoJSON, PBF",
"hasVersionedData": true,
"exportTilesAllowed": false,
"referenceScale": 0.0,
"supportsDatumTransformation": true,
"floorAwareMapProperties": {
"defaultFloorFilterSettings": {"isEnabled": true}
},
"archivingInfo": {"supportsHistoricMoment": false},
"supportsClipping": true,
"supportsSpatialFilter": true,
"supportsTimeRelation": true,
"supportsQueryDataElements": true,
"maxRecordCount": 2000,
"maxImageHeight": 4096,
"maxImageWidth": 4096,
"supportedExtensions": "",
"serviceItemId": "140692580835415895f03ededebfc570"
}