{
 "currentVersion": 10.91,
 "serviceDescription": "cob_Ortho2011",
 "name": "OrthoPhoto/Ortho2011",
 "description": "cob_Ortho2011",
 "extent": {
  "xmin": 7573848.000215314,
  "ymin": 635661.000295848,
  "xmax": 7643436.999936959,
  "ymax": 710775.999995388,
  "spatialReference": {
   "wkt": "PROJCS[\"NAD_1983_HARN_StatePlane_Oregon_North_FIPS_3601\",GEOGCS[\"GCS_North_American_1983_HARN\",DATUM[\"D_North_American_1983_HARN\",SPHEROID[\"GRS_1980\",6378137.0,298.257222101]],PRIMEM[\"Greenwich\",0.0],UNIT[\"Degree\",0.0174532925199433]],PROJECTION[\"Lambert_Conformal_Conic\"],PARAMETER[\"False_Easting\",8202099.737532808],PARAMETER[\"False_Northing\",0.0],PARAMETER[\"Central_Meridian\",-120.5],PARAMETER[\"Standard_Parallel_1\",44.33333333333334],PARAMETER[\"Standard_Parallel_2\",46.0],PARAMETER[\"Latitude_Of_Origin\",43.66666666666666],UNIT[\"Foot\",0.3048]]"
  }
 },
 "initialExtent": {
  "xmin": 7573848.000215314,
  "ymin": 635661.000295848,
  "xmax": 7643436.999936959,
  "ymax": 710775.999995388,
  "spatialReference": {
   "wkt": "PROJCS[\"NAD_1983_HARN_StatePlane_Oregon_North_FIPS_3601\",GEOGCS[\"GCS_North_American_1983_HARN\",DATUM[\"D_North_American_1983_HARN\",SPHEROID[\"GRS_1980\",6378137.0,298.257222101]],PRIMEM[\"Greenwich\",0.0],UNIT[\"Degree\",0.0174532925199433]],PROJECTION[\"Lambert_Conformal_Conic\"],PARAMETER[\"False_Easting\",8202099.737532808],PARAMETER[\"False_Northing\",0.0],PARAMETER[\"Central_Meridian\",-120.5],PARAMETER[\"Standard_Parallel_1\",44.33333333333334],PARAMETER[\"Standard_Parallel_2\",46.0],PARAMETER[\"Latitude_Of_Origin\",43.66666666666666],UNIT[\"Foot\",0.3048]]"
  }
 },
 "fullExtent": {
  "xmin": 7573848.000215314,
  "ymin": 635661.000295848,
  "xmax": 7643436.999936959,
  "ymax": 710775.999995388,
  "spatialReference": {
   "wkt": "PROJCS[\"NAD_1983_HARN_StatePlane_Oregon_North_FIPS_3601\",GEOGCS[\"GCS_North_American_1983_HARN\",DATUM[\"D_North_American_1983_HARN\",SPHEROID[\"GRS_1980\",6378137.0,298.257222101]],PRIMEM[\"Greenwich\",0.0],UNIT[\"Degree\",0.0174532925199433]],PROJECTION[\"Lambert_Conformal_Conic\"],PARAMETER[\"False_Easting\",8202099.737532808],PARAMETER[\"False_Northing\",0.0],PARAMETER[\"Central_Meridian\",-120.5],PARAMETER[\"Standard_Parallel_1\",44.33333333333334],PARAMETER[\"Standard_Parallel_2\",46.0],PARAMETER[\"Latitude_Of_Origin\",43.66666666666666],UNIT[\"Foot\",0.3048]]"
  }
 },
 "hasMultidimensions": false,
 "pixelSizeX": 0.4999999980000032,
 "pixelSizeY": 0.4999999979999998,
 "datasetFormat": "AMD",
 "uncompressedSize": 62726132820,
 "blockWidth": 2048,
 "blockHeight": 256,
 "compressionType": "None",
 "bandNames": [
  "Band_1",
  "Band_2",
  "Band_3"
 ],
 "allowCopy": true,
 "allowAnalysis": true,
 "bandCount": 3,
 "pixelType": "U8",
 "minPixelSize": 0,
 "maxPixelSize": 0,
 "copyrightText": "",
 "serviceDataType": "esriImageServiceDataTypeRGB",
 "serviceSourceType": "esriImageServiceSourceTypeMosaicDataset",
 "minValues": [
  0,
  0,
  0
 ],
 "maxValues": [
  255,
  255,
  255
 ],
 "meanValues": [
  81.21869300335881,
  89.52937295996438,
  76.06311497155201
 ],
 "stdvValues": [
  47.573898315375835,
  40.520112499563545,
  39.026503525567605
 ],
 "objectIdField": "OBJECTID",
 "fields": [
  {
   "name": "OBJECTID",
   "type": "esriFieldTypeOID",
   "alias": "OBJECTID",
   "domain": null
  },
  {
   "name": "Name",
   "type": "esriFieldTypeString",
   "alias": "Name",
   "domain": null,
   "length": 50
  },
  {
   "name": "MinPS",
   "type": "esriFieldTypeDouble",
   "alias": "MinPS",
   "domain": null
  },
  {
   "name": "MaxPS",
   "type": "esriFieldTypeDouble",
   "alias": "MaxPS",
   "domain": null
  },
  {
   "name": "LowPS",
   "type": "esriFieldTypeDouble",
   "alias": "LowPS",
   "domain": null
  },
  {
   "name": "HighPS",
   "type": "esriFieldTypeDouble",
   "alias": "HighPS",
   "domain": null
  },
  {
   "name": "Category",
   "type": "esriFieldTypeInteger",
   "alias": "Category",
   "domain": null
  },
  {
   "name": "Tag",
   "type": "esriFieldTypeString",
   "alias": "Tag",
   "domain": null,
   "length": 20
  },
  {
   "name": "GroupName",
   "type": "esriFieldTypeString",
   "alias": "GroupName",
   "domain": null,
   "length": 50
  },
  {
   "name": "ProductName",
   "type": "esriFieldTypeString",
   "alias": "ProductName",
   "domain": null,
   "length": 50
  },
  {
   "name": "CenterX",
   "type": "esriFieldTypeDouble",
   "alias": "CenterX",
   "domain": null
  },
  {
   "name": "CenterY",
   "type": "esriFieldTypeDouble",
   "alias": "CenterY",
   "domain": null
  },
  {
   "name": "ZOrder",
   "type": "esriFieldTypeDouble",
   "alias": "ZOrder",
   "domain": null
  },
  {
   "name": "SOrder",
   "type": "esriFieldTypeDouble",
   "alias": "SOrder",
   "domain": null
  },
  {
   "name": "StereoID",
   "type": "esriFieldTypeString",
   "alias": "StereoID",
   "domain": null,
   "length": 50
  },
  {
   "name": "Shape",
   "type": "esriFieldTypeGeometry",
   "alias": "Shape",
   "domain": null
  }
 ],
 "capabilities": "Image,Metadata,Catalog",
 "defaultMosaicMethod": "Center",
 "allowedMosaicMethods": "Center,NorthWest,LockRaster,ByAttribute,Nadir,Viewpoint,Seamline,None",
 "sortField": "",
 "sortValue": null,
 "sortAscending": true,
 "mosaicOperator": "First",
 "maxDownloadSizeLimit": 0,
 "defaultCompressionQuality": 75,
 "defaultResamplingMethod": "Bilinear",
 "maxImageHeight": 4100,
 "maxImageWidth": 15000,
 "maxRecordCount": 1000,
 "maxDownloadImageCount": 20,
 "maxMosaicImageCount": 20,
 "allowRasterFunction": true,
 "rasterFunctionInfos": [
  {
   "name": "None",
   "description": "A No-Op Function.",
   "help": ""
  }
 ],
 "rasterTypeInfos": [
  {
   "name": "Raster Dataset",
   "description": "Supports all ArcGIS Raster Datasets",
   "help": ""
  }
 ],
 "mensurationCapabilities": "",
 "hasHistograms": true,
 "hasColormap": false,
 "hasRasterAttributeTable": false,
 "minScale": 0,
 "maxScale": 0,
 "exportTilesAllowed": false,
 "supportsStatistics": true,
 "supportsAdvancedQueries": true,
 "editFieldsInfo": null,
 "ownershipBasedAccessControlForRasters": null,
 "allowComputeTiePoints": false,
 "useStandardizedQueries": true,
 "advancedQueryCapabilities": {
  "useStandardizedQueries": true,
  "supportsStatistics": true,
  "supportsOrderBy": true,
  "supportsDistinct": true,
  "supportsPagination": true
 },
 "spatialReference": {
  "wkt": "PROJCS[\"NAD_1983_HARN_StatePlane_Oregon_North_FIPS_3601\",GEOGCS[\"GCS_North_American_1983_HARN\",DATUM[\"D_North_American_1983_HARN\",SPHEROID[\"GRS_1980\",6378137.0,298.257222101]],PRIMEM[\"Greenwich\",0.0],UNIT[\"Degree\",0.0174532925199433]],PROJECTION[\"Lambert_Conformal_Conic\"],PARAMETER[\"False_Easting\",8202099.737532808],PARAMETER[\"False_Northing\",0.0],PARAMETER[\"Central_Meridian\",-120.5],PARAMETER[\"Standard_Parallel_1\",44.33333333333334],PARAMETER[\"Standard_Parallel_2\",46.0],PARAMETER[\"Latitude_Of_Origin\",43.66666666666666],UNIT[\"Foot\",0.3048]]"
 }
}
