{
 "currentVersion": 10.91,
 "cimVersion": "2.9.0",
 "serviceDescription": " Hybrid Basemap with 2022 Ortho, Streets, City Limits<\/SPAN><\/P><\/DIV><\/DIV><\/DIV>",
 "mapName": "Ortho2023Hybrid",
 "description": "Hybrid Basemap with 2022 Ortho, Streets, City Limits",
 "copyrightText": "",
 "supportsDynamicLayers": true,
 "layers": [
  {
   "id": 0,
   "name": "Streets",
   "parentLayerId": -1,
   "defaultVisibility": true,
   "subLayerIds": [
    1,
    2,
    3
   ],
   "minScale": 0,
   "maxScale": 0,
   "type": "Group Layer",
   "supportsDynamicLegends": false
  },
  {
   "id": 1,
   "name": "StreetLabels_All",
   "parentLayerId": 0,
   "defaultVisibility": true,
   "subLayerIds": null,
   "minScale": 0,
   "maxScale": 0,
   "type": "Feature Layer",
   "geometryType": "esriGeometryPolyline",
   "supportsDynamicLegends": true
  },
  {
   "id": 2,
   "name": "MajorArterials",
   "parentLayerId": 0,
   "defaultVisibility": true,
   "subLayerIds": null,
   "minScale": 50000,
   "maxScale": 25000,
   "type": "Feature Layer",
   "geometryType": "esriGeometryPolyline",
   "supportsDynamicLegends": true
  },
  {
   "id": 3,
   "name": "Arterials",
   "parentLayerId": 0,
   "defaultVisibility": true,
   "subLayerIds": null,
   "minScale": 25000,
   "maxScale": 9601,
   "type": "Feature Layer",
   "geometryType": "esriGeometryPolyline",
   "supportsDynamicLegends": true
  },
  {
   "id": 4,
   "name": "Beaverton City Limits",
   "parentLayerId": -1,
   "defaultVisibility": true,
   "subLayerIds": null,
   "minScale": 0,
   "maxScale": 0,
   "type": "Feature Layer",
   "geometryType": "esriGeometryPolygon",
   "supportsDynamicLegends": true
  },
  {
   "id": 5,
   "name": "Ortho 2023",
   "parentLayerId": -1,
   "defaultVisibility": true,
   "subLayerIds": [
    6,
    7,
    8
   ],
   "minScale": 0,
   "maxScale": 0,
   "type": "Mosaic Layer",
   "supportsDynamicLegends": false
  },
  {
   "id": 6,
   "name": "Boundary",
   "parentLayerId": 5,
   "defaultVisibility": false,
   "subLayerIds": null,
   "minScale": 0,
   "maxScale": 0,
   "type": "Feature Layer",
   "geometryType": "esriGeometryPolygon",
   "supportsDynamicLegends": true
  },
  {
   "id": 7,
   "name": "Footprint",
   "parentLayerId": 5,
   "defaultVisibility": false,
   "subLayerIds": null,
   "minScale": 0,
   "maxScale": 0,
   "type": "Feature Layer",
   "geometryType": "esriGeometryPolygon",
   "supportsDynamicLegends": true
  },
  {
   "id": 8,
   "name": "Image",
   "parentLayerId": 5,
   "defaultVisibility": true,
   "subLayerIds": null,
   "minScale": 0,
   "maxScale": 0,
   "type": "Raster Layer",
   "supportsDynamicLegends": true
  }
 ],
 "tables": [],
 "spatialReference": {
  "wkid": 2913,
  "latestWkid": 2913,
  "xyTolerance": 0.0032808398950131233,
  "zTolerance": 0.001,
  "mTolerance": 0.001,
  "falseX": -111333600,
  "falseY": -98152500,
  "xyUnits": 3048,
  "falseZ": -100000,
  "zUnits": 10000,
  "falseM": -100000,
  "mUnits": 10000
 },
 "singleFusedMapCache": true,
 "tileInfo": {
  "rows": 256,
  "cols": 256,
  "dpi": 96,
  "format": "MIXED",
  "compressionQuality": 75,
  "origin": {
   "x": -111333600,
   "y": 140918900
  },
  "spatialReference": {
   "wkid": 2913,
   "latestWkid": 2913,
   "xyTolerance": 0.0032808398950131233,
   "zTolerance": 0.001,
   "mTolerance": 0.001,
   "falseX": -111333600,
   "falseY": -98152500,
   "xyUnits": 3.767577073100752E7,
   "falseZ": -100000,
   "zUnits": 10000,
   "falseM": -100000,
   "mUnits": 10000
  },
  "lods": [
   {
    "level": 0,
    "resolution": 173.6114583340278,
    "scale": 200000
   },
   {
    "level": 1,
    "resolution": 86.8057291670139,
    "scale": 100000
   },
   {
    "level": 2,
    "resolution": 43.40286458350695,
    "scale": 50000
   },
   {
    "level": 3,
    "resolution": 21.701432291753473,
    "scale": 25000
   },
   {
    "level": 4,
    "resolution": 10.416687500041666,
    "scale": 12000
   },
   {
    "level": 5,
    "resolution": 5.208343750020833,
    "scale": 6000
   },
   {
    "level": 6,
    "resolution": 2.6041718750104166,
    "scale": 3000
   },
   {
    "level": 7,
    "resolution": 1.3020859375052083,
    "scale": 1500
   },
   {
    "level": 8,
    "resolution": 0.5208343750020833,
    "scale": 600
   },
   {
    "level": 9,
    "resolution": 0.26041718750104165,
    "scale": 300
   },
   {
    "level": 10,
    "resolution": 0.13020859375052082,
    "scale": 150
   }
  ]
 },
 "storageInfo": {
  "storageFormat": "esriMapCacheStorageModeCompactV2",
  "packetSize": 128
 },
 "initialExtent": {
  "xmin": 7599772.526281473,
  "ymin": 662077.5054329854,
  "xmax": 7619368.919640926,
  "ymax": 679807.575615348,
  "spatialReference": {
   "wkid": 2913,
   "latestWkid": 2913,
   "xyTolerance": 0.0032808398950131233,
   "zTolerance": 0.001,
   "mTolerance": 0.001,
   "falseX": -111333600,
   "falseY": -98152500,
   "xyUnits": 3048,
   "falseZ": -100000,
   "zUnits": 10000,
   "falseM": -100000,
   "mUnits": 10000
  }
 },
 "fullExtent": {
  "xmin": 7409151.547244102,
  "ymin": 430310.380905509,
  "xmax": 7897805.879265085,
  "ymax": 826927.527230978,
  "spatialReference": {
   "wkid": 2913,
   "latestWkid": 2913,
   "xyTolerance": 0.0032808398950131233,
   "zTolerance": 0.001,
   "mTolerance": 0.001,
   "falseX": -111333600,
   "falseY": -98152500,
   "xyUnits": 3048,
   "falseZ": -100000,
   "zUnits": 10000,
   "falseM": -100000,
   "mUnits": 10000
  }
 },
 "datesInUnknownTimezone": false,
 "minScale": 200000,
 "maxScale": 150,
 "minLOD": 0,
 "maxLOD": 10,
 "units": "esriFeet",
 "supportedImageFormatTypes": "PNG32,PNG24,PNG,JPG,DIB,TIFF,EMF,PS,PDF,GIF,SVG,SVGZ,BMP",
 "documentInfo": {
  "Title": "Ortho 2022 Hybrid",
  "Author": "",
  "Comments": "Hybrid Basemap with 2022 Ortho, Streets, City Limits",
  "Subject": "Hybrid Basemap 2022",
  "Category": "",
  "AntialiasingMode": "Best",
  "TextAntialiasingMode": "Force",
  "Version": "2.9.0",
  "Keywords": "Hybrid"
 },
 "supportsQueryDomains": true,
 "capabilities": "Query,Map,Data",
 "supportedQueryFormats": "JSON, geoJSON, PBF",
 "hasVersionedData": true,
 "exportTilesAllowed": false,
 "referenceScale": 0.0,
 "supportsDatumTransformation": true,
 "floorAwareMapProperties": {
  "defaultFloorFilterSettings": {
   "isEnabled": true
  }
 },
 "archivingInfo": {
  "supportsHistoricMoment": false
 },
 "supportsClipping": true,
 "supportsSpatialFilter": true,
 "supportsTimeRelation": true,
 "supportsQueryDataElements": true,
 "maxRecordCount": 2000,
 "maxImageHeight": 4096,
 "maxImageWidth": 4096,
 "supportedExtensions": "",
 "serviceItemId": "b0592a7771824e75b396dc15f2c523e9"
}
