{ "currentVersion": 10.91, "cimVersion": "2.9.0", "serviceDescription": "
Tile Cache map using Pro, new tiling scheme<\/SPAN><\/P><\/DIV><\/DIV><\/DIV>",
"mapName": "MutedBasemap",
"description": " Tile Cache map using Pro, new tiling scheme 1:150-1:2457600 (14 levels)<\/SPAN><\/P><\/DIV><\/DIV><\/DIV>",
"copyrightText": "City of Beaverton, Metro RLIS",
"supportsDynamicLayers": false,
"layers": [
{
"id": 0,
"name": "CityLimits_Line",
"parentLayerId": -1,
"defaultVisibility": true,
"subLayerIds": null,
"minScale": 0,
"maxScale": 0,
"type": "Feature Layer",
"geometryType": "esriGeometryPolygon",
"supportsDynamicLegends": true
},
{
"id": 1,
"name": "County_Line",
"parentLayerId": -1,
"defaultVisibility": true,
"subLayerIds": null,
"minScale": 0,
"maxScale": 0,
"type": "Feature Layer",
"geometryType": "esriGeometryPolygon",
"supportsDynamicLegends": true
},
{
"id": 2,
"name": "BuildingAddress",
"parentLayerId": -1,
"defaultVisibility": true,
"subLayerIds": null,
"minScale": 4800,
"maxScale": 0,
"type": "Feature Layer",
"geometryType": "esriGeometryPolygon",
"supportsDynamicLegends": true
},
{
"id": 3,
"name": "LightRailStops",
"parentLayerId": -1,
"defaultVisibility": true,
"subLayerIds": null,
"minScale": 25000,
"maxScale": 0,
"type": "Feature Layer",
"geometryType": "esriGeometryPoint",
"supportsDynamicLegends": true
},
{
"id": 5,
"name": "Taxlots - Washington County",
"parentLayerId": -1,
"defaultVisibility": true,
"subLayerIds": null,
"minScale": 19200,
"maxScale": 0,
"type": "Feature Layer",
"geometryType": "esriGeometryPolygon",
"supportsDynamicLegends": true
},
{
"id": 6,
"name": "Taxlots - Multnomah County",
"parentLayerId": -1,
"defaultVisibility": true,
"subLayerIds": null,
"minScale": 19200,
"maxScale": 0,
"type": "Feature Layer",
"geometryType": "esriGeometryPolygon",
"supportsDynamicLegends": true
},
{
"id": 7,
"name": "Buildings",
"parentLayerId": -1,
"defaultVisibility": true,
"subLayerIds": null,
"minScale": 12000,
"maxScale": 0,
"type": "Feature Layer",
"geometryType": "esriGeometryPolygon",
"supportsDynamicLegends": true
},
{
"id": 8,
"name": "Parks_Labels",
"parentLayerId": -1,
"defaultVisibility": true,
"subLayerIds": null,
"minScale": 0,
"maxScale": 0,
"type": "Feature Layer",
"geometryType": "esriGeometryPolygon",
"supportsDynamicLegends": true
},
{
"id": 10,
"name": "Railroad",
"parentLayerId": -1,
"defaultVisibility": true,
"subLayerIds": null,
"minScale": 100000,
"maxScale": 0,
"type": "Feature Layer",
"geometryType": "esriGeometryPolyline",
"supportsDynamicLegends": true
},
{
"id": 11,
"name": "Light Rail",
"parentLayerId": -1,
"defaultVisibility": true,
"subLayerIds": null,
"minScale": 100000,
"maxScale": 0,
"type": "Feature Layer",
"geometryType": "esriGeometryPolyline",
"supportsDynamicLegends": true
},
{
"id": 12,
"name": "StreetLabels_All",
"parentLayerId": -1,
"defaultVisibility": true,
"subLayerIds": null,
"minScale": 0,
"maxScale": 0,
"type": "Feature Layer",
"geometryType": "esriGeometryPolyline",
"supportsDynamicLegends": true
},
{
"id": 13,
"name": "Freeways_Labels",
"parentLayerId": -1,
"defaultVisibility": true,
"subLayerIds": null,
"minScale": 0,
"maxScale": 0,
"type": "Feature Layer",
"geometryType": "esriGeometryPolyline",
"supportsDynamicLegends": true
},
{
"id": 14,
"name": "MajorArterials",
"parentLayerId": -1,
"defaultVisibility": true,
"subLayerIds": null,
"minScale": 1228800,
"maxScale": 38400,
"type": "Feature Layer",
"geometryType": "esriGeometryPolyline",
"supportsDynamicLegends": true
},
{
"id": 15,
"name": "Arterials",
"parentLayerId": -1,
"defaultVisibility": true,
"subLayerIds": null,
"minScale": 76800,
"maxScale": 9600,
"type": "Feature Layer",
"geometryType": "esriGeometryPolyline",
"supportsDynamicLegends": true
},
{
"id": 17,
"name": "Minors_County",
"parentLayerId": -1,
"defaultVisibility": true,
"subLayerIds": null,
"minScale": 9600,
"maxScale": 150,
"type": "Feature Layer",
"geometryType": "esriGeometryPolyline",
"supportsDynamicLegends": true
},
{
"id": 16,
"name": "Streets_White",
"parentLayerId": -1,
"defaultVisibility": true,
"subLayerIds": null,
"minScale": 19200,
"maxScale": 0,
"type": "Feature Layer",
"geometryType": "esriGeometryPolyline",
"supportsDynamicLegends": true
},
{
"id": 20,
"name": "WaterBodies",
"parentLayerId": -1,
"defaultVisibility": true,
"subLayerIds": null,
"minScale": 0,
"maxScale": 0,
"type": "Feature Layer",
"geometryType": "esriGeometryPolygon",
"supportsDynamicLegends": true
},
{
"id": 18,
"name": "Large Parks",
"parentLayerId": -1,
"defaultVisibility": true,
"subLayerIds": null,
"minScale": 153600,
"maxScale": 76800,
"type": "Feature Layer",
"geometryType": "esriGeometryPolygon",
"supportsDynamicLegends": true
},
{
"id": 19,
"name": "Parks and Schools",
"parentLayerId": -1,
"defaultVisibility": true,
"subLayerIds": null,
"minScale": 38400,
"maxScale": 0,
"type": "Feature Layer",
"geometryType": "esriGeometryPolygon",
"supportsDynamicLegends": true
},
{
"id": 22,
"name": "Taxlots_COB",
"parentLayerId": -1,
"defaultVisibility": true,
"subLayerIds": null,
"minScale": 9600,
"maxScale": 0,
"type": "Feature Layer",
"geometryType": "esriGeometryPolygon",
"supportsDynamicLegends": true
},
{
"id": 23,
"name": "CityLimits_Fill",
"parentLayerId": -1,
"defaultVisibility": true,
"subLayerIds": null,
"minScale": 0,
"maxScale": 9601,
"type": "Feature Layer",
"geometryType": "esriGeometryPolygon",
"supportsDynamicLegends": true
},
{
"id": 25,
"name": "AdjacentCities",
"parentLayerId": -1,
"defaultVisibility": true,
"subLayerIds": null,
"minScale": 0,
"maxScale": 0,
"type": "Feature Layer",
"geometryType": "esriGeometryPolygon",
"supportsDynamicLegends": true
},
{
"id": 26,
"name": "CountyBoundaries",
"parentLayerId": -1,
"defaultVisibility": true,
"subLayerIds": null,
"minScale": 0,
"maxScale": 0,
"type": "Feature Layer",
"geometryType": "esriGeometryPolygon",
"supportsDynamicLegends": true
}
],
"tables": [],
"spatialReference": {
"wkid": 2913,
"latestWkid": 2913,
"xyTolerance": 0.0032808398950131233,
"zTolerance": 0.001,
"mTolerance": 0.001,
"falseX": -111333600,
"falseY": -98152500,
"xyUnits": 3048,
"falseZ": -100000,
"zUnits": 10000,
"falseM": -100000,
"mUnits": 10000
},
"singleFusedMapCache": true,
"tileInfo": {
"rows": 512,
"cols": 512,
"dpi": 96,
"format": "PNG",
"compressionQuality": 0,
"origin": {
"x": -111333600,
"y": 140918900
},
"spatialReference": {
"wkid": 2913,
"latestWkid": 2913,
"xyTolerance": 0.0032808398950131233,
"zTolerance": 0.001,
"mTolerance": 0.001,
"falseX": -111333600,
"falseY": -98152500,
"xyUnits": 3.767577073100752E7,
"falseZ": -100000,
"zUnits": 10000,
"falseM": -100000,
"mUnits": 10000
},
"lods": [
{
"level": 0,
"resolution": 2133.337600008533,
"scale": 2457600
},
{
"level": 1,
"resolution": 1066.6688000042666,
"scale": 1228800
},
{
"level": 2,
"resolution": 533.3344000021333,
"scale": 614400
},
{
"level": 3,
"resolution": 266.66720000106665,
"scale": 307200
},
{
"level": 4,
"resolution": 133.33360000053332,
"scale": 153600
},
{
"level": 5,
"resolution": 66.66680000026666,
"scale": 76800
},
{
"level": 6,
"resolution": 33.33340000013333,
"scale": 38400
},
{
"level": 7,
"resolution": 16.666700000066665,
"scale": 19200
},
{
"level": 8,
"resolution": 8.333350000033333,
"scale": 9600
},
{
"level": 9,
"resolution": 4.166675000016666,
"scale": 4800
},
{
"level": 10,
"resolution": 2.083337500008333,
"scale": 2400
},
{
"level": 11,
"resolution": 1.0416687500041666,
"scale": 1200
},
{
"level": 12,
"resolution": 0.5208343750020833,
"scale": 600
},
{
"level": 13,
"resolution": 0.26041718750104165,
"scale": 300
},
{
"level": 14,
"resolution": 0.13020859375052082,
"scale": 150
}
]
},
"storageInfo": {
"storageFormat": "esriMapCacheStorageModeCompactV2",
"packetSize": 128
},
"initialExtent": {
"xmin": 7604162.195913949,
"ymin": 669203.8859176748,
"xmax": 7608378.871013966,
"ymax": 672641.3927926884,
"spatialReference": {
"wkid": 2913,
"latestWkid": 2913,
"xyTolerance": 0.0032808398950131233,
"zTolerance": 0.001,
"mTolerance": 0.001,
"falseX": -111333600,
"falseY": -98152500,
"xyUnits": 3048,
"falseZ": -100000,
"zUnits": 10000,
"falseM": -100000,
"mUnits": 10000
}
},
"fullExtent": {
"xmin": 7293178.4209317565,
"ymin": 373560.6866797954,
"xmax": 7970974.616469815,
"ymax": 1002899.5587270409,
"spatialReference": {
"wkid": 2913,
"latestWkid": 2913,
"xyTolerance": 0.0032808398950131233,
"zTolerance": 0.001,
"mTolerance": 0.001,
"falseX": -111333600,
"falseY": -98152500,
"xyUnits": 3048,
"falseZ": -100000,
"zUnits": 10000,
"falseM": -100000,
"mUnits": 10000
}
},
"datesInUnknownTimezone": false,
"minScale": 2457600,
"maxScale": 150,
"minLOD": 0,
"maxLOD": 14,
"units": "esriFeet",
"supportedImageFormatTypes": "PNG32,PNG24,PNG,JPG,DIB,TIFF,EMF,PS,PDF,GIF,SVG,SVGZ,BMP",
"documentInfo": {
"Title": "BasemapMuted_Tile",
"Author": "",
"Comments": " Tile Cache map using Pro, new tiling scheme 1:150-1:2457600 (14 levels)<\/SPAN><\/P><\/DIV><\/DIV><\/DIV>",
"Subject": "Basemap with muted colors, using Pro",
"Category": "",
"AntialiasingMode": "Fast",
"TextAntialiasingMode": "Force",
"Version": "2.9.0",
"Keywords": "Basemap,Tile,Muted"
},
"supportsQueryDomains": true,
"capabilities": "Map",
"supportedQueryFormats": "JSON, geoJSON, PBF",
"hasVersionedData": true,
"exportTilesAllowed": false,
"referenceScale": 0.0,
"datumTransformations": [
{
"geoTransforms": [
{
"wkid": 1580,
"latestWkid": 1580,
"transformForward": true,
"name": "NAD_1983_HARN_To_WGS_1984"
}
]
},
{
"geoTransforms": [
{
"wkid": 1580,
"latestWkid": 1580,
"transformForward": false,
"name": "NAD_1983_HARN_To_WGS_1984"
}
]
}
],
"supportsDatumTransformation": true,
"floorAwareMapProperties": {
"defaultFloorFilterSettings": {"isEnabled": true}
},
"archivingInfo": {"supportsHistoricMoment": false},
"supportsClipping": true,
"supportsSpatialFilter": true,
"supportsTimeRelation": true,
"supportsQueryDataElements": true,
"maxRecordCount": 2000,
"maxImageHeight": 4096,
"maxImageWidth": 4096,
"supportedExtensions": "",
"serviceItemId": "59ec5973b57c4b5ab9b815b45e23db09"
}