{
 "currentVersion": 10.91,
 "serviceDescription": "Hillshade 2014",
 "mapName": "Layers",
 "description": "",
 "copyrightText": "",
 "supportsDynamicLayers": true,
 "layers": [
  {
   "id": 0,
   "name": "Hillshade 2014",
   "parentLayerId": -1,
   "defaultVisibility": true,
   "subLayerIds": null,
   "minScale": 0,
   "maxScale": 0,
   "type": "Raster Layer"
  }
 ],
 "tables": [],
 "spatialReference": {
  "wkid": 2913,
  "latestWkid": 2913
 },
 "singleFusedMapCache": true,
 "tileInfo": {
  "rows": 256,
  "cols": 256,
  "dpi": 96,
  "format": "MIXED",
  "compressionQuality": 75,
  "origin": {
   "x": -111333600,
   "y": 140918900
  },
  "spatialReference": {
   "wkid": 2913,
   "latestWkid": 2913
  },
  "lods": [
   {
    "level": 0,
    "resolution": 173.6114583340278,
    "scale": 200000
   },
   {
    "level": 1,
    "resolution": 86.8057291670139,
    "scale": 100000
   },
   {
    "level": 2,
    "resolution": 43.40286458350695,
    "scale": 50000
   },
   {
    "level": 3,
    "resolution": 21.701432291753473,
    "scale": 25000
   },
   {
    "level": 4,
    "resolution": 10.416687500041666,
    "scale": 12000
   },
   {
    "level": 5,
    "resolution": 5.208343750020833,
    "scale": 6000
   },
   {
    "level": 6,
    "resolution": 2.6041718750104166,
    "scale": 3000
   },
   {
    "level": 7,
    "resolution": 1.3020859375052083,
    "scale": 1500
   },
   {
    "level": 8,
    "resolution": 0.5208343750020833,
    "scale": 600
   },
   {
    "level": 9,
    "resolution": 0.26041718750104165,
    "scale": 300
   },
   {
    "level": 10,
    "resolution": 0.13020859375052082,
    "scale": 150
   }
  ]
 },
 "initialExtent": {
  "xmin": 7520310.848410776,
  "ymin": 626579.6775131166,
  "xmax": 7702674.923992172,
  "ymax": 723262.6426293958,
  "spatialReference": {
   "wkid": 2913,
   "latestWkid": 2913
  }
 },
 "fullExtent": {
  "xmin": 7559788.60999091,
  "ymin": 629986.9970059153,
  "xmax": 7658513.7851230195,
  "ymax": 723857.832485706,
  "spatialReference": {
   "wkid": 2913,
   "latestWkid": 2913
  }
 },
 "minScale": 200000,
 "maxScale": 150,
 "units": "esriFeet",
 "supportedImageFormatTypes": "PNG32,PNG24,PNG,JPG,DIB,TIFF,EMF,PS,PDF,GIF,SVG,SVGZ,BMP",
 "documentInfo": {
  "Title": "",
  "Author": "",
  "Comments": "Hillshade 2014",
  "Subject": "Hillshade 2014",
  "Category": "",
  "AntialiasingMode": "None",
  "TextAntialiasingMode": "Force",
  "Keywords": "hillshade,2014"
 },
 "capabilities": "Map,Query,Data",
 "supportedQueryFormats": "JSON, geoJSON",
 "exportTilesAllowed": false,
 "referenceScale": 0,
 "supportsDatumTransformation": true,
 "maxRecordCount": 1000,
 "maxImageHeight": 4096,
 "maxImageWidth": 4096,
 "supportedExtensions": "KmlServer",
 "serviceItemId": "4a0835bfb78a4280a632b31c2141cafc"
}
