View In:
ArcGIS JavaScript
ArcGIS Online Map Viewer
ArcGIS Earth
ArcMap
ArcGIS Pro
View Footprint In:
ArcGIS Online Map Viewer
Service Description: Hybrid Basemap with 2023 Ortho, Streets, City Limits
Map Name: Hybrid2023tpk
Legend
All Layers and Tables
Dynamic Legend
Dynamic All Layers
Layers:
Description: Hybrid Basemap with 2023 Ortho, Streets, City Limits
Service Item Id: 5626dd478cba4f3592d56ae926cce44e
Copyright Text:
Spatial Reference:
2913
(2913)
Single Fused Map Cache: true
Tile Info:
- Height: 1024
- Width: 1024
- DPI: 96
-
Levels of Detail: 6
-
Level ID: 0
[ Start Tile, End Tile ]
- Resolution: 86.8057291670139
- Scale: 100000.00000000001
-
Level ID: 1
[ Start Tile, End Tile ]
- Resolution: 43.40286458350695
- Scale: 50000.00000000001
-
Level ID: 2
[ Start Tile, End Tile ]
- Resolution: 21.701432291753473
- Scale: 25000.000000000004
- Format: JPEG
- Compression Quality: 75.0
- Origin: X: -1.113336E8
Y: 1.409189E8
- Spatial Reference: 2913
(2913)
Storage Info:
- Storage Format: esriMapCacheStorageModeCompactV2
- Packet Size: 128
Initial Extent:
XMin: 7569804.655989423
YMin: 639444.8356769491
XMax: 7649926.344010577
YMax: 706545.6643230509
Spatial Reference: 2913
(2913)
Full Extent:
XMin: 7588745.5
YMin: 646595.25
XMax: 7630985.5
YMax: 699395.25
Spatial Reference: 2913
(2913)
Units: esriFeet
Supported Image Format Types: PNG32,PNG24,PNG,JPG,DIB,TIFF,EMF,PS,PDF,GIF,SVG,SVGZ,BMP
Document Info:
Title: Ortho 2023 Hybrid
Author:
Comments: Hybrid Basemap with 2023 Ortho, Streets, City Limits
Subject: Hybrid Basemap 2023 with reduced scales
Category:
Keywords: Hybrid
AntialiasingMode: None
TextAntialiasingMode: Force
Supports Dynamic Layers: true
MaxRecordCount: 2000
MaxImageHeight: 4096
MaxImageWidth: 4096
Supported Query Formats: JSON, geoJSON, PBF
Supports Query Data Elements: true
Min Scale: 100000.00000000001
Max Scale: 300
Min LOD: 0
Max LOD: 5
Supports Datum Transformation: true
Child Resources:
Info
Dynamic Layer
Supported Operations:
Export Map
QueryLegends
Return Updates