View In:
ArcGIS JavaScript
ArcGIS Online Map Viewer
ArcGIS Earth
ArcMap
ArcGIS Pro
View Footprint In:
ArcGIS Online Map Viewer
Service Description: Hybrid Basemap with 2022 Ortho, Streets, City Limits
Map Name: Hybrid2022tpk
Legend
All Layers and Tables
Layers:
Description: Hybrid Basemap with 2022 Ortho, Streets, City Limits
Service Item Id: 140692580835415895f03ededebfc570
Copyright Text:
Spatial Reference:
2913
(2913)
Single Fused Map Cache: true
Tile Info:
- Height: 1024
- Width: 1024
- DPI: 96
-
Levels of Detail: 6
-
Level ID: 0
[ Start Tile, End Tile ]
- Resolution: 86.8057291670139
- Scale: 100000.00000000001
-
Level ID: 1
[ Start Tile, End Tile ]
- Resolution: 43.40286458350695
- Scale: 50000.00000000001
-
Level ID: 2
[ Start Tile, End Tile ]
- Resolution: 21.701432291753473
- Scale: 25000.000000000004
- Format: JPEG
- Compression Quality: 75.0
- Origin: X: -1.113336E8
Y: 1.409189E8
- Spatial Reference: 2913
(2913)
Storage Info:
- Storage Format: esriMapCacheStorageModeCompactV2
- Packet Size: 128
Initial Extent:
XMin: 7563594.004840663
YMin: 637958.3805577774
XMax: 7645365.00171599
YMax: 698027.9451413511
Spatial Reference: 2913
(2913)
Full Extent:
XMin: 7583457.50000003
YMin: 641298.5000000447
XMax: 7632759.50000003
YMax: 700752.5000000298
Spatial Reference: 2913
(2913)
Units: esriFeet
Supported Image Format Types: PNG32,PNG24,PNG,JPG,DIB,TIFF,EMF,PS,PDF,GIF,SVG,SVGZ,BMP
Document Info:
Title: Ortho 2022 Hybrid
Author:
Comments: <DIV STYLE="text-align:Left;font-size:12pt"><DIV><DIV><P><SPAN>Hybrid Basemap with 2022 Ortho, Streets, City Limits</SPAN></P></DIV></DIV></DIV>
Subject: Hybrid Basemap 2022 with reduced scales
Category:
Keywords: Hybrid
AntialiasingMode: Normal
TextAntialiasingMode: Force
Supports Dynamic Layers: false
MaxRecordCount: 2000
MaxImageHeight: 4096
MaxImageWidth: 4096
Supported Query Formats: JSON, geoJSON, PBF
Supports Query Data Elements: true
Min Scale: 100000.00000000001
Max Scale: 300
Min LOD: 0
Max LOD: 5
Supports Datum Transformation: true
Child Resources:
Info
Supported Operations:
Export Map
QueryLegends
Return Updates